BEGIN:VCALENDAR
VERSION:2.0
PRODID:-//eventon.com NONSGML v1.0//EN
CALSCALE:GREGORIAN
METHOD:PUBLISH
BEGIN:VEVENT
UID:69e4d98a58838
DTSTAMP:20260419T153258
DTSTART:20180502T173000Z
DTEND:20180502T190000Z
TZID:UTC
LOCATION:
SUMMARY:La alfabetización temprana y el entorno de alfabetización familiar en el marco de los Nuevos Estudios de Literacidad (NEL)
DESCRIPTION:En el marco de los Coloquios en torno a la Lectura y la Escritura organizados por el Vicerrectorado de Relaciones Institucionales\,  a través del Plan Integral para el Fomento de la Lectoescritura\,  y el I+D APErtUra (EDU2017-83967-P) \,   el próximo día 2 de mayo del corriente a las 17:30 horas[..]\nhttps://filologia.us.es/events/la-alfabetizacion-temprana-y-el-entorno-de-alfabetizacion-familiar-en-el-marco-de-los-nuevos-estudios-de-literacidad-nel/
URL:https://filologia.us.es/events/la-alfabetizacion-temprana-y-el-entorno-de-alfabetizacion-familiar-en-el-marco-de-los-nuevos-estudios-de-literacidad-nel/
END:VEVENT
END:VCALENDAR