BEGIN:VCALENDAR
VERSION:2.0
PRODID:-//eventon.com NONSGML v1.0//EN
CALSCALE:GREGORIAN
METHOD:PUBLISH
BEGIN:VEVENT
UID:69e4d98a302fc
DTSTAMP:20260419T153258
DTSTART:20180130T110000Z
DTEND:20180209T130000Z
TZID:UTC
LOCATION:
SUMMARY:II edición conferencias L'ALTRA ITALIA
DESCRIPTION:II edición conferencias L&#8217;ALTRA ITALIA Organiza: Società Dante Alighieri\nhttps://filologia.us.es/events/laltra-italia-la-basilicata-regione-sconosciuta/
URL:https://filologia.us.es/events/laltra-italia-la-basilicata-regione-sconosciuta/
END:VEVENT
END:VCALENDAR