BEGIN:VCALENDAR
VERSION:2.0
PRODID:-//eventon.com NONSGML v1.0//EN
CALSCALE:GREGORIAN
METHOD:PUBLISH
BEGIN:VEVENT
UID:69e65e2b69a93
DTSTAMP:20260420T191107
DTSTART:20181024T090000Z
DTEND:20181026T210000Z
TZID:UTC
LOCATION:
SUMMARY:Congreso Model-Based Reasoning in Science and Technology 20th Anniversary
DESCRIPTION:MODEL-BASED REASONING IN SCIENCE AND TECHNOLOGY Inferential Models for Logic\,  Language\,  Cognition and Computation Sevilla\,  Spain\,  October 24th -26th\,  2018 &nbsp; Chairs: Ángel Nepomuceno Fernández\,  Lorenzo Magnani and Francisco Salguero Lamillar MBR18_SPAIN (Eighth International MBR Conference) Central University of Seville Building University of Seville\,  Calle San Fernando 4 University of[..]\nhttps://filologia.us.es/events/congreso-model-based-reasoning-in-science-and-technology-20th-anniversary/
URL:https://filologia.us.es/events/congreso-model-based-reasoning-in-science-and-technology-20th-anniversary/
END:VEVENT
END:VCALENDAR