BEGIN:VCALENDAR
VERSION:2.0
PRODID:-//eventon.com NONSGML v1.0//EN
CALSCALE:GREGORIAN
METHOD:PUBLISH
BEGIN:VEVENT
UID:69e4d98a1dca2
DTSTAMP:20260419T153258
DTSTART:20171220T173000Z
DTEND:20171220T190000Z
TZID:UTC
LOCATION:
SUMMARY:Proyección de la película "La mafia uccide solo d'estate" por el 25º aniversario del asesinato del juez Giovanni Falcone
DESCRIPTION:Proyección de la película «La mafia uccide solo d&#8217;estate» por el 25º aniversario del asesinato del juez Giovanni Falcone La Asociación Dante Alighieri de Sevilla proyectará la película «La mafia uccide solo d&#8217;estate» por el 25º aniversario del asesinato del juez Giovanni Falcone. Miércoles 20 diciembre a las 17.30h\,  aula[..]\nhttps://filologia.us.es/events/proyeccion-la-pelicula-la-mafia-uccide-solo-destate-25o-aniversario-del-asesinato-del-juez-giovanni-falcone/
URL:https://filologia.us.es/events/proyeccion-la-pelicula-la-mafia-uccide-solo-destate-25o-aniversario-del-asesinato-del-juez-giovanni-falcone/
END:VEVENT
END:VCALENDAR