BEGIN:VCALENDAR
VERSION:2.0
PRODID:-//eventon.com NONSGML v1.0//EN
CALSCALE:GREGORIAN
METHOD:PUBLISH
BEGIN:VEVENT
UID:69e4d98a7d379
DTSTAMP:20260419T153258
DTSTART:20171129T093000Z
DTEND:20171129T110000Z
TZID:UTC
LOCATION:
SUMMARY:Campaña Seguridad de la Información y Protección de Datos en la US
DESCRIPTION:Campaña Seguridad de la Información y Protección de Datos en la US Mensaje de Mª del Carmen Romero Ternero\,  Directora del Secretariado de Estrategia Digital (Vicerrectorado de Desarrollo Digital y de Evaluación Universidad de Sevilla):»A pesar de los grandes avances tecnológicos de los últimos años y la aparición de dispositivos[..]\nhttps://filologia.us.es/events/campana-seguridad-la-informacion-proteccion-datos-la-us/
URL:https://filologia.us.es/events/campana-seguridad-la-informacion-proteccion-datos-la-us/
END:VEVENT
END:VCALENDAR