BEGIN:VCALENDAR
VERSION:2.0
PRODID:-//eventon.com NONSGML v1.0//EN
CALSCALE:GREGORIAN
METHOD:PUBLISH
BEGIN:VEVENT
UID:69e4fc54bf820
DTSTAMP:20260419T180124
DTSTART:20171123T193000Z
DTEND:20171123T210000Z
TZID:UTC
LOCATION:
SUMMARY:Presentación del libro 'La vida póstuma' de Pablo Sánchez
DESCRIPTION:Presentación del libro &#8216;La vida póstuma&#8217; de Pablo Sánchez (Algaida) Acompañarán al autor los profesores: José Manuel Camacho Delgado Miguel Polaino-Orts Noel Rivas Bravo Jueves\,  23 de noviembre\,  Aula 118 (Luis Cernuda)\,  19:30h\nhttps://filologia.us.es/events/presentacion-del-libro-la-vida-postuma-pablo-sanchez/
URL:https://filologia.us.es/events/presentacion-del-libro-la-vida-postuma-pablo-sanchez/
END:VEVENT
END:VCALENDAR