BEGIN:VCALENDAR
VERSION:2.0
PRODID:-//eventon.com NONSGML v1.0//EN
CALSCALE:GREGORIAN
METHOD:PUBLISH
BEGIN:VEVENT
UID:69e4d989ed123
DTSTAMP:20260419T153257
DTSTART:20171122T190000Z
DTEND:20171122T203000Z
TZID:UTC
LOCATION:
SUMMARY:Presentación de libros de la editorial Ediciones en Huida en nuestra Facultad
DESCRIPTION:El miércoles 22 de noviembre\,  a las 19 h.\,  tendrá lugar la presentación del poemario de Manuel Ianni\,  Artemisa; y la primera novela de Carla M. Nyman\,  El libro de Lucy\,  ambos publicados por Ediciones en Huida\,  en el Aula Magna de la Facultad de Filología (201). El acto será[..]\nhttps://filologia.us.es/events/presentacion-libros-la-editorial-ediciones-huida-nuestra-facultad/
URL:https://filologia.us.es/events/presentacion-libros-la-editorial-ediciones-huida-nuestra-facultad/
END:VEVENT
END:VCALENDAR