BEGIN:VCALENDAR
VERSION:2.0
PRODID:-//eventon.com NONSGML v1.0//EN
CALSCALE:GREGORIAN
METHOD:PUBLISH
BEGIN:VEVENT
UID:69e58d9e925bc
DTSTAMP:20260420T042118
DTSTART:20170627T123000Z
DTEND:20170627T133000Z
TZID:UTC
LOCATION:
SUMMARY:Entrega de premios de Game Tándem
DESCRIPTION:El martes 27 de junio a las 12:30h en el despacho del Sr. Decano de la Facultad de Filología tendrá lugar la entrega de premios de Game Tándem. http://filologia.us.es/estudiantes/tandem/ gametandem.blogspot.com\nhttps://filologia.us.es/events/entrega-premios-game-tandem/
URL:https://filologia.us.es/events/entrega-premios-game-tandem/
END:VEVENT
END:VCALENDAR