BEGIN:VCALENDAR
VERSION:2.0
PRODID:-//eventon.com NONSGML v1.0//EN
CALSCALE:GREGORIAN
METHOD:PUBLISH
BEGIN:VEVENT
UID:69e4d989eba50
DTSTAMP:20260419T153257
DTSTART:20260225T190000Z
DTEND:20260225T210000Z
TZID:UTC
LOCATION:
SUMMARY:Alberto Rodríguez presenta la serie «Anatomía de un instante»
DESCRIPTION:\nhttps://filologia.us.es/events/alberto-rodriguez-presenta-la-serie-anatomia-de-un-instante/
URL:https://filologia.us.es/events/alberto-rodriguez-presenta-la-serie-anatomia-de-un-instante/
END:VEVENT
END:VCALENDAR