BEGIN:VCALENDAR
VERSION:2.0
PRODID:-//eventon.com NONSGML v1.0//EN
CALSCALE:GREGORIAN
METHOD:PUBLISH
BEGIN:VEVENT
UID:69e6e4aabacb4
DTSTAMP:20260421T044458
DTSTART:20251204T190000Z
DTEND:20251204T210000Z
TZID:UTC
LOCATION:
SUMMARY:Vargas Llosa y su legado
DESCRIPTION:\nhttps://filologia.us.es/events/vargas-llosa-y-su-legado/
URL:https://filologia.us.es/events/vargas-llosa-y-su-legado/
END:VEVENT
END:VCALENDAR