BEGIN:VCALENDAR
VERSION:2.0
PRODID:-//eventon.com NONSGML v1.0//EN
CALSCALE:GREGORIAN
METHOD:PUBLISH
BEGIN:VEVENT
UID:69e4d989c6938
DTSTAMP:20260419T153257
DTSTART:20250930T120000Z
DTEND:20250930T140000Z
TZID:UTC
LOCATION:
SUMMARY:Seminario permanente de Estudios Norteamericanos «Pilar Marín Madrazo»
DESCRIPTION:\nhttps://filologia.us.es/events/seminario-permanente-de-estudios-norteamericanos-pilar-marin-madrazo/
URL:https://filologia.us.es/events/seminario-permanente-de-estudios-norteamericanos-pilar-marin-madrazo/
END:VEVENT
END:VCALENDAR