BEGIN:VCALENDAR
VERSION:2.0
PRODID:-//eventon.com NONSGML v1.0//EN
CALSCALE:GREGORIAN
METHOD:PUBLISH
BEGIN:VEVENT
UID:69e5a7e20da96
DTSTAMP:20260420T061322
DTSTART:20240222T190000Z
DTEND:20240222T210000Z
TZID:UTC
LOCATION:
SUMMARY:Homenaje a Antonio Machado
DESCRIPTION:\nhttps://filologia.us.es/events/homenaje-a-antonio-machado/
URL:https://filologia.us.es/events/homenaje-a-antonio-machado/
END:VEVENT
END:VCALENDAR