BEGIN:VCALENDAR
VERSION:2.0
PRODID:-//eventon.com NONSGML v1.0//EN
CALSCALE:GREGORIAN
METHOD:PUBLISH
BEGIN:VEVENT
UID:69e5a7e189a33
DTSTAMP:20260420T061321
DTSTART:20231212T190000Z
DTEND:20231212T210000Z
TZID:UTC
LOCATION:
SUMMARY:Homenaje a Martin Amis
DESCRIPTION:\nhttps://filologia.us.es/events/homenaje-a-martin-amis/
URL:https://filologia.us.es/events/homenaje-a-martin-amis/
END:VEVENT
END:VCALENDAR