BEGIN:VCALENDAR
VERSION:2.0
PRODID:-//eventon.com NONSGML v1.0//EN
CALSCALE:GREGORIAN
METHOD:PUBLISH
BEGIN:VEVENT
UID:69e72f572b306
DTSTAMP:20260421T100335
DTSTART:20230510T190000Z
DTEND:20230510T210000Z
TZID:UTC
LOCATION:
SUMMARY:Recital poético Curtis Bauer
DESCRIPTION:\nhttps://filologia.us.es/events/recital-poetico-curtis-bauer/
URL:https://filologia.us.es/events/recital-poetico-curtis-bauer/
END:VEVENT
END:VCALENDAR