BEGIN:VCALENDAR
VERSION:2.0
PRODID:-//eventon.com NONSGML v1.0//EN
CALSCALE:GREGORIAN
METHOD:PUBLISH
BEGIN:VEVENT
UID:69e5a7e16053c
DTSTAMP:20260420T061321
DTSTART:20220920T113000Z
DTEND:20220920T130000Z
TZID:UTC
LOCATION:
SUMMARY:Sesión informativa de Prácticas 2022/23
DESCRIPTION:\nhttps://filologia.us.es/events/sesion-informativa-de-practicas-2022-23/
URL:https://filologia.us.es/events/sesion-informativa-de-practicas-2022-23/
END:VEVENT
END:VCALENDAR