BEGIN:VCALENDAR
VERSION:2.0
PRODID:-//eventon.com NONSGML v1.0//EN
CALSCALE:GREGORIAN
METHOD:PUBLISH
BEGIN:VEVENT
UID:69e7d00e9a50a
DTSTAMP:20260421T212918
DTSTART:20220629T093000Z
DTEND:20221016T140000Z
TZID:UTC
LOCATION:
SUMMARY:Exposición «Nebrija en América»
DESCRIPTION:Nebrija en América Y el océano se llenó de palabras Archivo General de Indias\,  del 29 de junio al 16 de octubre de 2022 Comisariado científico: Lola Pons\,  Leyre Martín Aizpuru y Manuel Álvarez Casado Organizan: Consejería de Cultura y Patrimonio Histórico de la Junta de Andalucía\,  Ministerio de Cultura y Deporte (Dirección General de Patrimonio Cultural[..]\nhttps://filologia.us.es/events/exposicion-nebrija-en-america/
URL:https://filologia.us.es/events/exposicion-nebrija-en-america/
END:VEVENT
END:VCALENDAR