BEGIN:VCALENDAR
VERSION:2.0
PRODID:-//eventon.com NONSGML v1.0//EN
CALSCALE:GREGORIAN
METHOD:PUBLISH
BEGIN:VEVENT
UID:69e4d9896435d
DTSTAMP:20260419T153257
DTSTART:20220512T193000Z
DTEND:20220512T210000Z
TZID:UTC
LOCATION:
SUMMARY:Ciclo de conferencias PASOLINI – Dante de Sevilla & Facultad de Filología de la US
DESCRIPTION:\nhttps://filologia.us.es/events/ciclo-de-conferencias-pasolini-dante-de-sevilla-facultad-de-filologia-de-la-us-3/
URL:https://filologia.us.es/events/ciclo-de-conferencias-pasolini-dante-de-sevilla-facultad-de-filologia-de-la-us-3/
END:VEVENT
END:VCALENDAR