BEGIN:VCALENDAR
VERSION:2.0
PRODID:-//eventon.com NONSGML v1.0//EN
CALSCALE:GREGORIAN
METHOD:PUBLISH
BEGIN:VEVENT
UID:69e5a7e16684f
DTSTAMP:20260420T061321
DTSTART:20200122T081500Z
DTEND:20200124T193000Z
TZID:UTC
LOCATION:
SUMMARY:Congreso Internacional "Versos ibéricos"
DESCRIPTION:Congreso Internacional Versos Ibéricos. Intercambios poéticos entre España y Portugal (siglos XV-XVIII) 22 al 24 de enero de 2020 Los interesados en inscribirse como oyentes o en acudir al concierto de música del siglo XVIII han de escribir al email asistentesversosibericos@gmail.com VERSOS IBERICOS enero 2020. Programa definitivo 12 enero Concierto. Al servicio[..]\nhttps://filologia.us.es/events/congreso-internacional-versos-ibericos/
URL:https://filologia.us.es/events/congreso-internacional-versos-ibericos/
END:VEVENT
END:VCALENDAR