BEGIN:VCALENDAR
VERSION:2.0
PRODID:-//eventon.com NONSGML v1.0//EN
CALSCALE:GREGORIAN
METHOD:PUBLISH
BEGIN:VEVENT
UID:69e58d9ebd9e4
DTSTAMP:20260420T042118
DTSTART:20190513T160000Z
DTEND:20190515T190000Z
TZID:UTC
LOCATION:
SUMMARY:Taller de cine "Shoot your shot"
DESCRIPTION:Taller de cine «Shoot your shot» Del 13 al 15 de mayo tendrá lugar en la Facultad de Filología el taller de cine «Shoot your shot». Dirigido por el director austriaco Stefan Bohun. Es completamente gratuito y constará de una parte teórica y una práctica. Es necesaria la asistencia los[..]\nhttps://filologia.us.es/events/taller-de-cine-shoot-your-shot/
URL:https://filologia.us.es/events/taller-de-cine-shoot-your-shot/
END:VEVENT
END:VCALENDAR