BEGIN:VCALENDAR
VERSION:2.0
PRODID:-//eventon.com NONSGML v1.0//EN
CALSCALE:GREGORIAN
METHOD:PUBLISH
BEGIN:VEVENT
UID:69e602595a3cd
DTSTAMP:20260420T123921
DTSTART:20190513T173000Z
DTEND:20190514T200000Z
TZID:UTC
LOCATION:
SUMMARY:Taller de "El viaje del héroe"
DESCRIPTION:Jornada sobre «El viaje del héroe o monomito» Lunes 13 y martes 14 de mayo de 2019\nhttps://filologia.us.es/events/taller-de-el-viaje-del-heroe/
URL:https://filologia.us.es/events/taller-de-el-viaje-del-heroe/
END:VEVENT
END:VCALENDAR