BEGIN:VCALENDAR
VERSION:2.0
PRODID:-//eventon.com NONSGML v1.0//EN
CALSCALE:GREGORIAN
METHOD:PUBLISH
BEGIN:VEVENT
UID:69e6c0659912e
DTSTAMP:20260421T021013
DTSTART:20190408T180000Z
DTEND:20190411T210000Z
TZID:UTC
LOCATION:
SUMMARY:Semana Studio Ghibli
DESCRIPTION:Semana Studio Ghibli (abril 2019)\nhttps://filologia.us.es/events/semana-studio-ghibli/
URL:https://filologia.us.es/events/semana-studio-ghibli/
END:VEVENT
END:VCALENDAR