BEGIN:VCALENDAR
VERSION:2.0
PRODID:-//eventon.com NONSGML v1.0//EN
CALSCALE:GREGORIAN
METHOD:PUBLISH
BEGIN:VEVENT
UID:69e5a7e206da6
DTSTAMP:20260420T061322
DTSTART:20190219T153000Z
DTEND:20190220T203000Z
TZID:UTC
LOCATION:
SUMMARY:Imaginar el futuro: Ciencia ficción y literatura
DESCRIPTION:Imaginar el futuro: Ciencia ficción y literatura Inscripción gratuita en imaginarfuturo@cajadeletras.es &nbsp;\nhttps://filologia.us.es/events/imaginar-el-futuro-ciencia-ficcion-y-literatura/
URL:https://filologia.us.es/events/imaginar-el-futuro-ciencia-ficcion-y-literatura/
END:VEVENT
END:VCALENDAR