BEGIN:VCALENDAR
VERSION:2.0
PRODID:-//eventon.com NONSGML v1.0//EN
CALSCALE:GREGORIAN
METHOD:PUBLISH
BEGIN:VEVENT
UID:69e5a7e187726
DTSTAMP:20260420T061321
DTSTART:20181016T160000Z
DTEND:20181016T210000Z
TZID:UTC
LOCATION:
SUMMARY:Examen OnSet Alemán
DESCRIPTION:La Facultad de Filología de la Universidad de Sevilla recibe el próximo día 16 de octubre\,  a las 16 horas\,  el examen OnSet Alemán para la certificación de nivel de lengua alemana. Este examen\,  que es de carácter gratuito\,  es una acreditación lingüística para poder participar en convocatorias como las becas del DAAD. Todos[..]\nhttps://filologia.us.es/events/examen-onset-aleman/
URL:https://filologia.us.es/events/examen-onset-aleman/
END:VEVENT
END:VCALENDAR